BEGIN:VCALENDAR
VERSION:2.0
PRODID:-//Tukios.com/
BEGIN:VEVENT
UID:c985a224-b9c0-48b8-802a-a4c1cd3b3561@www.horancares.com
DTSTAMP:20260424T213534Z
DTSTART:20260504T173000Z
DTEND:20260504T180000Z
SUMMARY:Graveside Service
DESCRIPTION:Please meet at Staging Area WHITE no sooner than 11:15AM
URL:https://www.horancares.com/obituaries/steven-null
LOCATION: 3698 S Sheridan Blvd  Denver CO 80236
GEO:39.6457257;-105.0508365
END:VEVENT
END:VCALENDAR