BEGIN:VCALENDAR
VERSION:2.0
PRODID:-//Tukios.com/
BEGIN:VEVENT
UID:c0a38519-8638-41d8-a494-b0a31bacfc08@www.horancares.com
DTSTAMP:20260425T173744Z
DTSTART:20260508T200000Z
DTEND:20260508T220000Z
SUMMARY:Memorial Service
DESCRIPTION:
URL:https://www.horancares.com/obituaries/steven-matthews
LOCATION:Horan & McConaty Funeral Service 5303 East County Line Road  
	Centennial CO 80122
GEO:39.5665051;-104.9266024
END:VEVENT
END:VCALENDAR