BEGIN:VCALENDAR
VERSION:2.0
PRODID:-//Tukios.com/
BEGIN:VEVENT
UID:4d17a6ac-6635-405b-9d68-e0e787fd0486@www.horancares.com
DTSTAMP:20260424T221406Z
DTSTART:20260501T170000Z
DTEND:20260501T180000Z
SUMMARY:Memorial Service
DESCRIPTION:
URL:https://www.horancares.com/obituaries/robinio-mcgraw
LOCATION:Abiding Hope Church 6337 South Robb Way  Littleton CO 80127
GEO:39.6015097;-105.1278547
END:VEVENT
END:VCALENDAR