BEGIN:VCALENDAR
VERSION:2.0
PRODID:-//Tukios.com/
BEGIN:VEVENT
UID:87fcf31c-d320-4000-ba52-c35e77f28074@www.horancares.com
DTSTAMP:20260424T221245Z
DTSTART:20260429T000000Z
DTEND:20260429T020000Z
SUMMARY:Visitation
DESCRIPTION:
URL:https://www.horancares.com/obituaries/robinio-mcgraw
LOCATION: 3101 S Wadsworth Blvd  Lakewood CO 80227
GEO:39.6619237;-105.0819755
END:VEVENT
END:VCALENDAR