BEGIN:VCALENDAR
VERSION:2.0
PRODID:-//Tukios.com/
BEGIN:VEVENT
UID:a348723e-5ad3-410e-a5d3-a3718f41406b@www.horancares.com
DTSTAMP:20260420T185937Z
DTSTART:20260529T190000Z
DTEND:20260529T200000Z
SUMMARY:Memorial Service
DESCRIPTION:
URL:https://www.horancares.com/obituaries/robert-gomez
LOCATION: 11150 E Dartmouth Ave  Aurora CO 80014
GEO:39.6601407;-104.8551384
END:VEVENT
END:VCALENDAR