BEGIN:VCALENDAR
VERSION:2.0
PRODID:-//Tukios.com/
BEGIN:VEVENT
UID:8036c6d3-9531-43f3-b6e1-3e9a5346b4f8@www.horancares.com
DTSTAMP:20260423T235520Z
DTSTART:20260502T180000Z
DTEND:20260502T193000Z
SUMMARY:Reception
DESCRIPTION:
URL:https://www.horancares.com/obituaries/monique-amerman
LOCATION: 5303 E County Line Rd  Centennial CO 80122
GEO:39.566534;-104.9265656
END:VEVENT
END:VCALENDAR