BEGIN:VCALENDAR
VERSION:2.0
PRODID:-//Tukios.com/
BEGIN:VEVENT
UID:d27d8faa-411b-45c1-8c1a-2bbe4a2b78d2@www.horancares.com
DTSTAMP:20260423T235520Z
DTSTART:20260502T170000Z
DTEND:20260502T180000Z
SUMMARY:Celebration of Life
DESCRIPTION:
URL:https://www.horancares.com/obituaries/monique-amerman
LOCATION: 5303 E County Line Rd  Centennial CO 80122
GEO:39.566534;-104.9265656
END:VEVENT
END:VCALENDAR