BEGIN:VCALENDAR
VERSION:2.0
PRODID:-//Tukios.com/
BEGIN:VEVENT
UID:676cb404-01ad-43ed-86ed-6a7c2a8c36cf@www.horancares.com
DTSTAMP:20260423T235605Z
DTSTART:20260509T180000Z
DTEND:20260509T190000Z
SUMMARY:Mass
DESCRIPTION:
URL:https://www.horancares.com/obituaries/loretta-dunlap
LOCATION:All Souls Catholic Church 4950 S Logan St  Englewood CO 80113
GEO:39.6263922;-104.9827297
END:VEVENT
END:VCALENDAR