BEGIN:VCALENDAR
VERSION:2.0
PRODID:-//Tukios.com/
BEGIN:VEVENT
UID:69290dcb-132a-413b-95aa-f25317dd33f4@www.horancares.com
DTSTAMP:20260423T235857Z
DTSTART:20260509T010000Z
DTEND:20260509T020000Z
SUMMARY:Rosary
DESCRIPTION:
URL:https://www.horancares.com/obituaries/loretta-dunlap
LOCATION: 4950 S Logan St  Englewood CO 80113
GEO:39.6263922;-104.9827297
END:VEVENT
END:VCALENDAR