BEGIN:VCALENDAR
VERSION:2.0
PRODID:-//Tukios.com/
BEGIN:VEVENT
UID:9ebd6769-1c55-46ca-81ef-daffb9c5377a@www.horancares.com
DTSTAMP:20260420T182824Z
DTSTART:20260427T160000Z
DTEND:20260427T170000Z
SUMMARY:Funeral Mass
DESCRIPTION:
URL:https://www.horancares.com/obituaries/lisa-giannascoli-spear
LOCATION: 3060 S Monaco St Pkwy  Denver CO 80222
GEO:39.6606744;-104.9120114
END:VEVENT
END:VCALENDAR