BEGIN:VCALENDAR
VERSION:2.0
PRODID:-//Tukios.com/
BEGIN:VEVENT
UID:6c777be6-dbc8-4a36-b266-f66cf5c1d404@www.horancares.com
DTSTAMP:20260420T182946Z
DTSTART:20260427T153000Z
DTEND:20260427T163000Z
SUMMARY:Recitation of the Rosary
DESCRIPTION:
URL:https://www.horancares.com/obituaries/lisa-giannascoli-spear
LOCATION: 3060 S Monaco St Pkwy  Denver CO 80222
GEO:39.6606744;-104.9120114
END:VEVENT
END:VCALENDAR