BEGIN:VCALENDAR
VERSION:2.0
PRODID:-//Tukios.com/
BEGIN:VEVENT
UID:5b7008e3-b411-46dc-aa52-911211e53c9e@www.horancares.com
DTSTAMP:20260423T002550Z
DTSTART:20260515T183000Z
DTEND:20260515T193000Z
SUMMARY:Burial
DESCRIPTION:
URL:https://www.horancares.com/obituaries/jeannie-martinez
LOCATION:Fort Logan National Cemetery 3698 S Sheridan Blvd  Denver CO 
	80236
GEO:39.6497707;-105.0508784
END:VEVENT
END:VCALENDAR