BEGIN:VCALENDAR
VERSION:2.0
PRODID:-//Tukios.com/
BEGIN:VEVENT
UID:3ecf1b04-de84-4cf2-9ee7-9abc121c34ab@www.horancares.com
DTSTAMP:20260423T002336Z
DTSTART:20260515T170000Z
DTEND:20260515T180000Z
SUMMARY:Funeral Service
DESCRIPTION:
URL:https://www.horancares.com/obituaries/jeannie-martinez
LOCATION:Horan & McConaty Family Chapel 3101 S Wadsworth Blvd  Lakewood 
	CO 80227
GEO:39.6619237;-105.0819755
END:VEVENT
END:VCALENDAR