BEGIN:VCALENDAR
VERSION:2.0
PRODID:-//Tukios.com/
BEGIN:VEVENT
UID:ca4afb41-cb4e-4bd1-a565-eb409b7e004e@www.horancares.com
DTSTAMP:20260422T183145Z
DTSTART:20260509T173000Z
DTEND:20260509T190000Z
SUMMARY:Celebration of Life
DESCRIPTION:
URL:https://www.horancares.com/obituaries/harema-smith-nee-ali-nanny
LOCATION: 11150 E Dartmouth Ave  Aurora CO 80014
GEO:39.6601407;-104.8551384
END:VEVENT
END:VCALENDAR