BEGIN:VCALENDAR
VERSION:2.0
PRODID:-//Tukios.com/
BEGIN:VEVENT
UID:0d05ff77-856c-4154-9043-0acb1b485a26@www.horancares.com
DTSTAMP:20260421T233237Z
DTSTART:20260427T184500Z
DTEND:20260427T194500Z
SUMMARY:Graveside Service
DESCRIPTION:
URL:https://www.horancares.com/obituaries/gary-mccrary
LOCATION: 6155 S Prince St  Littleton CO 80120
GEO:39.6023676;-105.0185072
END:VEVENT
END:VCALENDAR