BEGIN:VCALENDAR
VERSION:2.0
PRODID:-//Tukios.com/
BEGIN:VEVENT
UID:9fdbbab4-5a00-45e9-bdf5-f6fa5982a11c@www.horancares.com
DTSTAMP:20260421T232936Z
DTSTART:20260427T170000Z
DTEND:20260427T180000Z
SUMMARY:Funeral Service
DESCRIPTION:
URL:https://www.horancares.com/obituaries/gary-mccrary
LOCATION:Horan & McConaty Family Chapel 3101 S Wadsworth Blvd  Lakewood 
	CO 80227
GEO:39.6619237;-105.0819755
END:VEVENT
END:VCALENDAR