BEGIN:VCALENDAR
VERSION:2.0
PRODID:-//Tukios.com/
BEGIN:VEVENT
UID:788702b4-b81c-47fa-a2cb-a1ea902daa51@www.horancares.com
DTSTAMP:20260421T232656Z
DTSTART:20260427T160000Z
DTEND:20260427T170000Z
SUMMARY:Visitation
DESCRIPTION:
URL:https://www.horancares.com/obituaries/gary-mccrary
LOCATION:Horan & McConaty Family Chapel 3101 S Wadsworth Blvd  Lakewood 
	CO 80227
GEO:39.6619237;-105.0819755
END:VEVENT
END:VCALENDAR