BEGIN:VCALENDAR
VERSION:2.0
PRODID:-//Tukios.com/
BEGIN:VEVENT
UID:48c05774-558f-4a91-b95e-9cb0a2a8a204@www.horancares.com
DTSTAMP:20260420T034402Z
DTSTART:20260423T193000Z
DTEND:20260423T210000Z
SUMMARY:Reception
DESCRIPTION:
URL:https://www.horancares.com/obituaries/emma-nicholls
LOCATION: 11150 E Dartmouth Ave  Aurora CO 80014
GEO:39.6601407;-104.8551384
END:VEVENT
END:VCALENDAR