BEGIN:VCALENDAR
VERSION:2.0
PRODID:-//Tukios.com/
BEGIN:VEVENT
UID:11f375ee-b176-4241-ba9a-e1bbf03619ad@www.horancares.com
DTSTAMP:20260420T034808Z
DTSTART:20260423T180000Z
DTEND:20260423T193000Z
SUMMARY:Memorial Service
DESCRIPTION:
URL:https://www.horancares.com/obituaries/emma-nicholls
LOCATION: 11150 E Dartmouth Ave  Aurora CO 80014
GEO:39.6601407;-104.8551384
END:VEVENT
END:VCALENDAR