BEGIN:VCALENDAR
VERSION:2.0
PRODID:-//Tukios.com/
BEGIN:VEVENT
UID:f345f919-01d9-4263-b95b-7d96d47f0e9e@www.horancares.com
DTSTAMP:20260422T193447Z
DTSTART:20260426T220000Z
DTEND:20260426T230000Z
SUMMARY:Memorial Service
DESCRIPTION:
URL:https://www.horancares.com/obituaries/edward-geisler
LOCATION: 1701 W Caley Ave  Littleton CO 80120
GEO:39.6026616;-105.0074367
END:VEVENT
END:VCALENDAR