BEGIN:VCALENDAR
VERSION:2.0
PRODID:-//Tukios.com/
BEGIN:VEVENT
UID:5ee19331-050a-4044-9280-c57edce76a7e@www.horancares.com
DTSTAMP:20260422T205100Z
DTSTART:20260426T183000Z
DTEND:20260426T193000Z
SUMMARY:Celebration of Life
DESCRIPTION:
URL:https://www.horancares.com/obituaries/donna-hudson
LOCATION: 1450 Airport Blvd  Aurora CO 80011
GEO:39.7390187;-104.79069
END:VEVENT
END:VCALENDAR