BEGIN:VCALENDAR
VERSION:2.0
PRODID:-//Tukios.com/
BEGIN:VEVENT
UID:456145e3-46e4-474c-84a2-1c8ee081613a@www.horancares.com
DTSTAMP:20260421T181604Z
DTSTART:20260423T210000Z
DTEND:20260423T220000Z
SUMMARY:Celebration of Life
DESCRIPTION:
URL:https://www.horancares.com/obituaries/christopher-jordan
LOCATION:Free Recovery Church 2122 South Lafayette Street  Denver CO 
	80210
GEO:39.6781694;-104.9707385
END:VEVENT
END:VCALENDAR