BEGIN:VCALENDAR
VERSION:2.0
PRODID:-//Tukios.com/
BEGIN:VEVENT
UID:a7462594-10b2-429a-a367-d4a786b3b2c7@www.horancares.com
DTSTAMP:20260421T181828Z
DTSTART:20260423T203000Z
DTEND:20260423T210000Z
SUMMARY:Viewing
DESCRIPTION:
URL:https://www.horancares.com/obituaries/christopher-jordan
LOCATION:Free Recovery Church 2122 South Lafayette Street  Denver CO 
	80210
GEO:39.6781694;-104.9707385
END:VEVENT
END:VCALENDAR