BEGIN:VCALENDAR
VERSION:2.0
PRODID:-//Tukios.com/
BEGIN:VEVENT
UID:caad9120-269b-456b-b144-dfdad3ae0955@www.horancares.com
DTSTAMP:20260421T080850Z
DTSTART:20260227T173000Z
DTEND:20260227T183000Z
SUMMARY:Funeral Service
DESCRIPTION:
URL:https://www.horancares.com/obituaries/bonnie-vecchiarelli
LOCATION:Faith Church 6250 Wright St  Arvada CO 80004
GEO:39.8100327;-105.1385744
END:VEVENT
END:VCALENDAR