BEGIN:VCALENDAR
VERSION:2.0
PRODID:-//Tukios.com/
BEGIN:VEVENT
UID:87701b4d-3f64-4156-9989-ec1b529fe3de@www.horancares.com
DTSTAMP:20260425T001740Z
DTSTART:20260426
SUMMARY:Family Gathering
DESCRIPTION:To follow visitation, please ask Holly for address.
URL:https://www.horancares.com/obituaries/alvin-senger
LOCATION:Family's Home Location to be given to guests  Aurora CO 80013
GEO:39.6563415;-104.7637619
END:VEVENT
END:VCALENDAR