BEGIN:VCALENDAR
VERSION:2.0
PRODID:-//Tukios.com/
BEGIN:VEVENT
UID:d7240a06-ec39-4cb1-bb65-32a49334b2bf@www.horancares.com
DTSTAMP:20260425T001406Z
DTSTART:20260426T180000Z
DTEND:20260426T200000Z
SUMMARY:Visitation with Family
DESCRIPTION:
URL:https://www.horancares.com/obituaries/alvin-senger
LOCATION: 11150 E Dartmouth Ave  Aurora CO 80014
GEO:39.6601407;-104.8551384
END:VEVENT
END:VCALENDAR