BEGIN:VCALENDAR
VERSION:2.0
PRODID:-//Tukios.com/
BEGIN:VEVENT
UID:43170a39-db7f-4851-88ce-0828976f908d@www.horancares.com
DTSTAMP:20260422T185100Z
DTSTART:20260429T180000Z
DTEND:20260429T190000Z
SUMMARY:Graveside Service
DESCRIPTION:
URL:https://www.horancares.com/obituaries/alma-vangie-rountree
LOCATION:Las Animas Bent County Cemetery 28082 CR 10.75  Las Animas CO 
	81054
GEO:38.0666735;-103.222708
END:VEVENT
END:VCALENDAR