BEGIN:VCALENDAR
VERSION:2.0
PRODID:-//Tukios.com/
BEGIN:VEVENT
UID:3ccb4f82-bd87-4476-8219-429140301586@www.horancares.com
DTSTAMP:20260422T185031Z
DTSTART:20260428T190000Z
DTEND:20260428T210000Z
SUMMARY:Visitation
DESCRIPTION:
URL:https://www.horancares.com/obituaries/alma-vangie-rountree
LOCATION: 9998 Grant St  Thornton CO 80229
GEO:39.8771159;-104.9831837
END:VEVENT
END:VCALENDAR